BEGIN:VCALENDAR
VERSION:2.0
PRODID:icalendar-ruby
CALSCALE:GREGORIAN
METHOD:PUBLISH
BEGIN:VEVENT
DTSTAMP:20260422T144930Z
UID:190-400036@secondreformed.org
DTSTART:20260426T153000Z
DTEND:20260426T160000Z
CLASS:PUBLIC
CREATED:20260421T103227
DESCRIPTION:The Christian Education Committee will be having another Sunday
  Seminar on April 26th at 11:30AM following worship. Our presenter\, Pauli
 ne Noyes\, is the co-chair of the Native Plant Society of New Jersey Berge
 n Chapter. The Native Plant Society of New Jersey is a non-profit organiza
 tion founded in 1983. Their mission is to promote the appreciation\, prote
 ction\, and study of New Jersey's native flora. Pauline will provide us wi
 th a general introduction to native plants\, perfect for Earth Month!
LAST-MODIFIED:20260421T103227
LOCATION:Church Lounge
SUMMARY:Sunday Seminar on Native Plants
URL;VALUE=URI:https://www.secondreformed.org/events/sunday-seminar-on-nativ
 e-plants/2026-04-26
ATTACH;FILENAME=Purple-Coneflower.jpg;FMTTYPE=image/jpeg:https://dq5pwpg1q8
 ru0.cloudfront.net/2026/04/21/14/32/26/eb4658ea-0444-4274-b027-d7f577ea3fe
 9/Purple-Coneflower.jpg
ATTACH;FILENAME=Introduction to Native Plants Sunday Seminar.png;FMTTYPE=im
 age/png:https://dq5pwpg1q8ru0.cloudfront.net/2026/04/21/14/32/26/7487bb2d-
 2fc8-40e5-b1fc-4603565277a7/Introduction%20to%20Native%20Plants%20Sunday%2
 0Seminar.png
END:VEVENT
END:VCALENDAR
