BEGIN:VCALENDAR
VERSION:2.0
PRODID:icalendar-ruby
CALSCALE:GREGORIAN
METHOD:PUBLISH
BEGIN:VEVENT
DTSTAMP:20260424T115034Z
UID:192-403159@secondreformed.org
DTSTART:20260509T210000Z
DTEND:20260509T220000Z
CLASS:PUBLIC
CREATED:20260423T120426
DESCRIPTION:Evening worship with contemporary prose\, poetry\, scripture re
 ading and amazing jazz music in our church lounge this time featuring The 
 Caylen Bryant Trio.\nCome and celebrate God as we do a new thing in the sp
 irit of Psalm 150.\n Dr. Ardie Walser as singer\, pianist and songwriter
 \, was a member of the award winning vocal trio BLACK TIE\, two-time winne
 rs of the Manhattan Association of Cabarets and Club (MAC) Award for Outst
 anding Vocal Group and the winners of the Bistro Awards for Outstanding Vo
 cal Group and Best New York Debut. With Black Tie he has shared the stage 
 with the likes of Melba Moore at Carnegie Hall\; Sylvia Sims and Ann Hampt
 on Callaway at Town Hall\; and Noel Pointer at Avery Fisher Hall\; and per
 formed on radio and appeared on a number of TV shows such as The Joan Rive
 rs Show. He has recorded with a wide range of artists from cabaret to pop 
 including – Jazz Composer\, Anke Helfrich\; Cabaret Artist\, Natalie Dou
 glas\; Salsa Singer\, Michael Stuart\; and Salsa Star\, Marc Anthony. \nC
 aylen Bryant - Bass\nCaylen has been singing for as long as she can rememb
 er\, and at the age of seven\, she picked up the cello. Years later\, she 
 began playing bass in her second year at Oberlin Conservatory where she ea
 rned her Bachelor of Music in Jazz Bass Performance. She continued her mus
 ic training in 2022 at Julliard where she earned her Master’s degree.\nS
 he is currently performing with Kandace Springs\, and has been touring nat
 ionally and internationally with her since 2018. Rubén Blades has describ
 ed Caylen as a wonderful storyteller\, remarking on how well she can deliv
 er a story through music.\nElliot Bernard - Pianist\nHailing from Leesburg
 \, Virginia\, Bernard cultivated his interest in jazz under the mentorship
  of the veteran military musicians of the Washington\, D.C. area. He compl
 eted his undergraduate studies as a jazz piano performance major at Willia
 m Paterson University in 2022 where he studied with pianists Bill Charlap\
 , Kevin Hays\, Aaron Diehl\, Geoff Keezer\, and Mike LeDonne. Bernard has 
 since performed with musicians such as Winard Harper\, Bruce Williams\, Je
 rry Weldon\, and Leo Johnson. An educator as well as performer\, he mainta
 ins a teaching studio of his own in the greater New York metropolitan area
 .\nCamille Gainer- Drummer\nCamille Gainer a native New Yorker\, has esta
 blished herself with a rich career poised with artistic ability and versat
 ility. She began playing drums and other instruments such as guitar\, viol
 in and piano at the age of 11. She then went on to study with master drumm
 er Michael Carvin. Her diligence and perseverance earned her a full schola
 rship at Brooklyn’s Long Island University\, where she got to study with
  other greats such as Keith Copeland. \nCamille has gone on to work with 
 such luminous artist as Roy Ayers\, Lonnie Liston Smith\, Roberta Flack\, 
 Jean Carn\, Noel Pointer\, Steve Coleman\, Greg Osby\, Chuck Mangione\, Ma
 rc Cary\, Christian McBride\, Michael Urbaniak\, Ursula Dudziak\, Melky Se
 deck\, Worl-a-Girl\, Capelton\, Lt.Stitchie\, Tanya Stephens\,Sugar Minott
 \, M.C. Shan and the Juice Crew All-Stars of which she was the musical Dir
 ector\, Monifa\, Heavy D\, Angela Bofill\, Weldon Irvine\, Joan Jett\, Ona
 je Allen Gumbs\, Leni Stern\, Kelis\, J.T. Taylor\, Les Nubians\,Cyndi Lau
 per\, Alicia Keys\,Vernon Reid\, Nona Hendryx\, Rhonda Ross\, Diana Ross\,
  Wayne Brady and Kandace Springs. As a producer she is credited with many 
 records such as her own album a "Girl From Queens\, Marc Cary's "Indigenou
 s People"\, Sharp Radway's “The Black Woman” and Kandace Springs' “R
 un Your Race” and many more.
LAST-MODIFIED:20260423T120426
LOCATION:Church Lounge
SUMMARY:Jazz Vespers - The Caylen Bryant Trio
URL;VALUE=URI:https://www.secondreformed.org/events/jazz-vespers-the-caylen
 -bryant-trio/2026-05-09
ATTACH;FILENAME=Caylen Bryant landscape.jpeg;FMTTYPE=image/jpeg:https://dq5
 pwpg1q8ru0.cloudfront.net/2026/04/23/16/00/49/3b1fa38f-5299-47c0-9b3e-dec8
 8179e7b9/Caylen%20Bryant%20landscape.jpeg
ATTACH;FILENAME=Ardie Walser Photo sQUARE.jpeg;FMTTYPE=image/jpeg:https://d
 q5pwpg1q8ru0.cloudfront.net/2026/04/23/16/00/50/9a881c3c-a4f2-42e5-b200-76
 db00fb88c3/Ardie%20Walser%20Photo%20sQUARE.jpeg
ATTACH;FILENAME=Jazz Vespers 2025-05.jpg;FMTTYPE=image/jpeg:https://dq5pwpg
 1q8ru0.cloudfront.net/2026/04/23/16/00/50/dbd22eb8-6b7a-42eb-bfe5-4397d6ae
 ba90/Jazz%20Vespers%202025-05.jpg
ATTACH;FILENAME=Caylen Bryant Photo.jpeg;FMTTYPE=image/jpeg:https://dq5pwpg
 1q8ru0.cloudfront.net/2026/04/23/16/00/50/e3febfda-f74b-4a2a-a196-1cabb1b9
 1a1c/Caylen%20Bryant%20Photo.jpeg
ATTACH;FILENAME=Camille Gainer Photo 022624.jpeg;FMTTYPE=image/jpeg:https:/
 /dq5pwpg1q8ru0.cloudfront.net/2026/04/23/16/00/50/6d9eef4f-e2a7-48d2-8f7c-
 1a85dee4a65c/Camille%20Gainer%20Photo%20022624.jpeg
ATTACH;FILENAME=Elliot Bernard Pianist photo 110924.jpeg;FMTTYPE=image/jpeg
 :https://dq5pwpg1q8ru0.cloudfront.net/2026/04/23/16/00/51/0f48afec-24d9-46
 8b-97ed-30ec4a844dec/Elliot%20Bernard%20Pianist%20photo%20110924.jpeg
ATTACH;FILENAME=Elliot Bernard IMG_20260413_040548 041326.jpg;FMTTYPE=image
 /jpeg:https://dq5pwpg1q8ru0.cloudfront.net/2026/04/23/16/00/51/c8e0f651-c4
 dc-44ee-a73b-a46f94a81d12/Elliot%20Bernard%20IMG_20260413_040548%20041326.
 jpg
ATTACH;FILENAME=Jazz Vespers 2026-05.pdf;FMTTYPE=application/pdf:https://dq
 5pwpg1q8ru0.cloudfront.net/2026/04/23/16/04/26/3e8a3272-3511-4165-a654-d04
 bb7075e90/Jazz%20Vespers%202026-05.pdf
END:VEVENT
END:VCALENDAR
